BEGIN:VCALENDAR
VERSION:2.0
PRODID:-//eventon.com NONSGML v1.0//EN
CALSCALE:GREGORIAN
METHOD:PUBLISH
BEGIN:VEVENT
UID:69e5a8e46e0a2
DTSTAMP:20260420T041740Z
DTSTART:20190501T093000Z
DTEND:20190501T103000Z
LOCATION:De Cynham\,  Egmond aan den Hoef Herenweg 270
SUMMARY:Open meditatiebijeenkomst
DESCRIPTION:Meditatie brengt lichaam en geest in een natuurlijker balans. S
 ámen mediteren is extra krachtig. Iedereen kan meedoen aan onze open medit
 aties. Na een kleine theeceremonie en het lezen van een tekstje\,  meditere
 n we een half uur. Als je wilt\,  kun je tot slot praten over je ervaringen
 . De bijeenkomst duurt[..]\nhttps://filosofieenmeditatie.nl/events/open-med
 itatiebijeenkomst-36/
URL:https://filosofieenmeditatie.nl/events/open-meditatiebijeenkomst-36/
END:VEVENT
END:VCALENDAR