BEGIN:VCALENDAR
VERSION:2.0
PRODID:-//eventon.com NONSGML v1.0//EN
CALSCALE:GREGORIAN
METHOD:PUBLISH
BEGIN:VEVENT
UID:69e4de574e0a5
DTSTAMP:20260419T135327Z
DTSTART:20190927T200000Z
DTEND:20190927T213000Z
LOCATION:De Cynham\,  Egmond aan den Hoef Herenweg 270
SUMMARY:Zenmeditatie: Beginnen met Zen
DESCRIPTION:Het doel van zenmeditatie (zazen) is niet om je ‘zen’ te ga
 an voelen. Waar gaat zen wel over? Zenmeditatie gaat over aanwezig zijn bij
  wat er is. Aanwezig bij wat je ziet\,  hoort en voelt. Voortdurend zijn we
  echter bezig met het halen van grote en kleine toekomstige doelen. Van[..]
 \nhttps://filosofieenmeditatie.nl/events/zenmeditatie-beginnen-met-zen-7/
URL:https://filosofieenmeditatie.nl/events/zenmeditatie-beginnen-met-zen-7/
END:VEVENT
END:VCALENDAR