BEGIN:VCALENDAR
VERSION:2.0
PRODID:-//eventon.com NONSGML v1.0//EN
CALSCALE:GREGORIAN
METHOD:PUBLISH
BEGIN:VEVENT
UID:69e4c818668fd
DTSTAMP:20260419T121832Z
DTSTART:20190923T200000Z
DTEND:20190923T220000Z
LOCATION:De Cynham\,  Egmond aan den Hoef Herenweg 270
SUMMARY:Start Leerweg Filosofie en Meditatie: vernieuwd programma (Egmond aan den Hoef)
DESCRIPTION:De Leerweg  De Leerweg van de Stichting Filosofie en Meditatie
  is een 4-jarig studieprogramma. We bestuderen de belangrijkste principes v
 an grote filosofische tradities: de Indiase vedanta en yoga\,  het Boeddhis
 me\,  het (vroege) Christendom\,  het Soefisme en werk uit de klassieke oud
 heid. Zo oud als deze teksten zijn\,  zo actueel is[..]\nhttps://filosofiee
 nmeditatie.nl/events/start-leerweg-filosofie-en-meditatie-egmond-aan-den-ho
 ef/
URL:https://filosofieenmeditatie.nl/events/start-leerweg-filosofie-en-meditatie-egmond-aan-den-hoef/
END:VEVENT
END:VCALENDAR