BEGIN:VCALENDAR
VERSION:2.0
PRODID:-//eventon.com NONSGML v1.0//EN
CALSCALE:GREGORIAN
METHOD:PUBLISH
BEGIN:VEVENT
UID:69e54cb68b8af
DTSTAMP:20260419T214422Z
DTSTART:20191027T093000Z
DTEND:20191027T190000Z
LOCATION:De Cynham\,  Egmond aan den Hoef Herenweg 270
SUMMARY:Terugkomdag Retraite Ontwikkel je zelf verder\,  the NEXT LEVEL mei 2019
DESCRIPTION:Deze terugkomdag is bedoeld voor de deelnemers van de retraite 
 Ontwikkel je zelf verder\,  the NEXT LEVEL die in mei in Brognon gehouden i
 s. Het wordt een boeiende dag waar we kunnen kijken wat er in praktijk is g
 ebracht en wat er nodig is om een volgende stap te zetten.[..]\nhttps://fil
 osofieenmeditatie.nl/events/terugkomdag-retraite-ontwikkel-je-zelf-verder-t
 he-next-level-mei-2019/
URL:https://filosofieenmeditatie.nl/events/terugkomdag-retraite-ontwikkel-je-zelf-verder-the-next-level-mei-2019/
END:VEVENT
END:VCALENDAR