BEGIN:VCALENDAR
VERSION:2.0
PRODID:-//eventon.com NONSGML v1.0//EN
CALSCALE:GREGORIAN
METHOD:PUBLISH
BEGIN:VEVENT
UID:69e597e23d85d
DTSTAMP:20260420T030506Z
DTSTART:20191019T103000Z
DTEND:20191019T120000Z
LOCATION:De Cynham\,  Egmond aan den Hoef Herenweg 270
SUMMARY:Studiegroep Een cursus in Wonderen
DESCRIPTION:‘Een Cursus In Wonderen’ is een boek en een spiritueel pad.
  Het bevat een Tekstboek\,  een Werkboek met 365 lessen en een Handboek voo
 r Leraren. Het doel van dit spirituele pad is innerlijke vrede en leven van
 uit Liefde. We bereiken dit doel door anders te leren denken en waarnemen e
 n[..]\nhttps://filosofieenmeditatie.nl/events/studiegroep-een-cursus-in-won
 deren-copy/
URL:https://filosofieenmeditatie.nl/events/studiegroep-een-cursus-in-wonderen-copy/
END:VEVENT
END:VCALENDAR