BEGIN:VCALENDAR
VERSION:2.0
PRODID:-//eventon.com NONSGML v1.0//EN
CALSCALE:GREGORIAN
METHOD:PUBLISH
BEGIN:VEVENT
UID:69e8a5f543f57
DTSTAMP:20260422T104157Z
DTSTART:20190704T100000Z
DTEND:20190704T113000Z
LOCATION:
SUMMARY:Open meditatieochtend
DESCRIPTION:Meditatie brengt lichaam en geest in een natuurlijker balans. S
 ámen mediteren is extra krachtig. Iedereen kan meedoen aan onze open medit
 aties. We mediteren een half uur. Als je wilt\,  kun je tot slot praten ove
 r je ervaringen. De bijeenkomst duurt bij elkaar anderhalf uur. Je hoeft je
  niet eerst aan[..]\nhttps://filosofieenmeditatie.nl/events/open-meditatie-
 ochtend/
URL:https://filosofieenmeditatie.nl/events/open-meditatie-ochtend/
END:VEVENT
END:VCALENDAR