BEGIN:VCALENDAR
VERSION:2.0
PRODID:-//eventon.com NONSGML v1.0//EN
CALSCALE:GREGORIAN
METHOD:PUBLISH
BEGIN:VEVENT
UID:69e8d048cf49b
DTSTAMP:20260422T134232Z
DTSTART:20190911T160000Z
DTEND:20190915T110000Z
LOCATION:Retraitecentrum Le Domaine St. Antoine\,  Brognon\,  Noord-Frankrijk Rue de la rivière 22  08380 Brognon\,  Frankrijk
SUMMARY:Vrijwilligersproject: groot onderhoud aan het Chalet in Brognon
DESCRIPTION:Er is groot onderhoud nodig aan het Chalet in Brognon. In mei h
 ebben we het eerste deel aangepakt. Nu wordt het tijd om ook de rest van he
 t chalet te schuren en opnieuw  te impregneren. Wil jij\,  onder deskundig
 e leiding\,  meehelpen met deze klus? We klussen niet alleen samen\,  maar[
 ..]\nhttps://filosofieenmeditatie.nl/events/vrijwilligersproject-groot-onde
 rhoud-aan-het-chalet-in-brognon-2/
URL:https://filosofieenmeditatie.nl/events/vrijwilligersproject-groot-onderhoud-aan-het-chalet-in-brognon-2/
END:VEVENT
END:VCALENDAR