BEGIN:VCALENDAR
VERSION:2.0
PRODID:-//eventon.com NONSGML v1.0//EN
CALSCALE:GREGORIAN
METHOD:PUBLISH
BEGIN:VEVENT
UID:69e8e8886871a
DTSTAMP:20260422T152600Z
DTSTART:20191130T090000Z
DTEND:20191201T160000Z
LOCATION:De Cynham\,  Egmond aan den Hoef Herenweg 270
SUMMARY:Studieweekend Leerweg Verdiepingsgroep
DESCRIPTION:Voor de deelnemers aan de Verdiepingsgroep van de Leerweg Fil
 osofie en Meditatie zijn de volgende zaterdagochtenden en weekenden gepland
 : 25 januari 2020 29 februari 2020 25 april 2020 Retraiteweekenden 30 novem
 ber -1 december 2019 28 &#8211; 29 maart 2020\nhttps://filosofieenmeditatie
 .nl/events/studieochtend-leerweg-verdiepingsgroep-6/
URL:https://filosofieenmeditatie.nl/events/studieochtend-leerweg-verdiepingsgroep-6/
END:VEVENT
END:VCALENDAR