BEGIN:VCALENDAR
VERSION:2.0
PRODID:-//eventon.com NONSGML v1.0//EN
CALSCALE:GREGORIAN
METHOD:PUBLISH
BEGIN:VEVENT
UID:69e8fdc5862bf
DTSTAMP:20260422T165637Z
DTSTART:20200125T090000Z
DTEND:20200125T120000Z
LOCATION:De Cynham\,  Egmond aan den Hoef Herenweg 270
SUMMARY:Studieochtend Leerweg Verdiepingsgroep
DESCRIPTION:Voor de deelnemers aan de Verdiepingsgroep van de Leerweg Fil
 osofie en Meditatie zijn de volgende zaterdagochtenden en een weekend gepla
 nd: 25 januari 2020 29 februari 2020 25 april 2020 Retraiteweekend 28 &#821
 1; 29 maart 2020\nhttps://filosofieenmeditatie.nl/events/studieochtend-leer
 weg-verdiepingsgroep-7/
URL:https://filosofieenmeditatie.nl/events/studieochtend-leerweg-verdiepingsgroep-7/
END:VEVENT
END:VCALENDAR