BEGIN:VCALENDAR
VERSION:2.0
PRODID:-//eventon.com NONSGML v1.0//EN
CALSCALE:GREGORIAN
METHOD:PUBLISH
BEGIN:VEVENT
UID:69e915f6ac3a8
DTSTAMP:20260422T183950Z
DTSTART:20200229T090000Z
DTEND:20200229T120000Z
LOCATION:De Cynham\,  Egmond aan den Hoef Herenweg 270
SUMMARY:Studieochtend Leerweg Verdiepingsgroep
DESCRIPTION:Voor de deelnemers aan de Verdiepingsgroep van de Leerweg Fil
 osofie en Meditatie zijn de volgende zaterdagochtenden en een weekend gepla
 nd: 29 februari 2020 25 april 2020 Retraiteweekend 28 &#8211; 29 maart 2020
 \nhttps://filosofieenmeditatie.nl/events/studieochtend-leerweg-verdiepingsg
 roep-8/
URL:https://filosofieenmeditatie.nl/events/studieochtend-leerweg-verdiepingsgroep-8/
END:VEVENT
END:VCALENDAR