BEGIN:VCALENDAR
VERSION:2.0
PRODID:-//eventon.com NONSGML v1.0//EN
CALSCALE:GREGORIAN
METHOD:PUBLISH
BEGIN:VEVENT
UID:69e92e9674aa6
DTSTAMP:20260422T202454Z
DTSTART:20200425T090000Z
DTEND:20200425T120000Z
LOCATION:De Cynham\,  Egmond aan den Hoef Herenweg 270
SUMMARY:Studieochtend Leerweg Verdiepingsgroep
DESCRIPTION:Voor de deelnemers aan de Verdiepingsgroep van de Leerweg Fil
 osofie en Meditatie zijn de volgende zaterdagochtenden  gepland: 25 april 
 2020 &nbsp;\nhttps://filosofieenmeditatie.nl/events/studieochtend-leerweg-v
 erdiepingsgroep-copy-2/
URL:https://filosofieenmeditatie.nl/events/studieochtend-leerweg-verdiepingsgroep-copy-2/
END:VEVENT
END:VCALENDAR