BEGIN:VCALENDAR
VERSION:2.0
PRODID:-//eventon.com NONSGML v1.0//EN
CALSCALE:GREGORIAN
METHOD:PUBLISH
BEGIN:VEVENT
UID:69e947104effc
DTSTAMP:20260422T220920Z
DTSTART:20191026T090000Z
DTEND:20191026T120000Z
LOCATION:De Cynham\,  Egmond aan den Hoef Herenweg 270
SUMMARY:Studieochtend Leerweg Verdiepingsgroep
DESCRIPTION:Voor de deelnemers aan de Verdiepingsgroep van de Leerweg Fil
 osofie en Meditatie zijn de volgende zaterdagochtenden en weekenden gepland
 : 26 oktober 2019 25 januari 2020 29 februari 2020 25 april 2020 Retraitewe
 ekenden 30 november -1 december 2019 28 &#8211; 29 maart 2020\nhttps://filo
 sofieenmeditatie.nl/events/studieochtend-leerweg-verdiepingsgroep-10/
URL:https://filosofieenmeditatie.nl/events/studieochtend-leerweg-verdiepingsgroep-10/
END:VEVENT
END:VCALENDAR