BEGIN:VCALENDAR
VERSION:2.0
PRODID:-//eventon.com NONSGML v1.0//EN
CALSCALE:GREGORIAN
METHOD:PUBLISH
BEGIN:VEVENT
UID:69e96388482e8
DTSTAMP:20260423T001048Z
DTSTART:20190913T200000Z
DTEND:20190913T213000Z
LOCATION:
SUMMARY:Bhagavad Gita studieavonden
DESCRIPTION:De Bhagavad Gita is een bijzondere\,  eeuwenoude tekst en vormt
  de kern van het grote Indiase epos\,  de Mahabharata. De boodschap\,  die 
 hierin door Sri Krishna aan zijn vriend en leerling Arjuna uiteengezet word
 t is in deze tijd nog even actueel als eeuwen geleden. Voor velen vormt het
  een bron[..]\nhttps://filosofieenmeditatie.nl/events/bhagavad-gita-studiea
 vonden/
URL:https://filosofieenmeditatie.nl/events/bhagavad-gita-studieavonden/
END:VEVENT
END:VCALENDAR