BEGIN:VCALENDAR
VERSION:2.0
PRODID:-//eventon.com NONSGML v1.0//EN
CALSCALE:GREGORIAN
METHOD:PUBLISH
BEGIN:VEVENT
UID:69e9ac7f0ffe2
DTSTAMP:20260423T052207Z
DTSTART:20221218T040000Z
DTEND:20221218T083000Z
LOCATION:De Cynham\,  Egmond aan den Hoef Herenweg 270
SUMMARY:Kerstdiner
DESCRIPTION:Het kerstdiner op de Cynham is een goede\,  warme traditie. We 
 komen bij elkaar om stil te staan bij de werkelijke betekenis van kerstmis\
 ,  om elkaar te ontmoeten en te inspireren. En natuurlijk te voeden. Er wor
 dt muziek gemaakt en er worden verhalen verteld. Iedereen is van harte welk
 om\,  ook[..]\nhttps://filosofieenmeditatie.nl/events/kerstdiner-2/
URL:https://filosofieenmeditatie.nl/events/kerstdiner-2/
END:VEVENT
END:VCALENDAR