BEGIN:VCALENDAR
VERSION:2.0
PRODID:-//eventon.com NONSGML v1.0//EN
CALSCALE:GREGORIAN
METHOD:PUBLISH
BEGIN:VEVENT
UID:69e9c46fcc10f
DTSTAMP:20260423T070415Z
DTSTART:20200105T160000Z
DTEND:20200105T183000Z
LOCATION:De Cynham\,  Egmond aan den Hoef Herenweg 270
SUMMARY:Nieuwjaarsreceptie
DESCRIPTION:De nieuwjaarsreceptie is het moment dat we elkaar weer opnieuw 
 ontmoeten in het nieuwe jaar. Het is ook het moment waarop het sociaal jaar
 verslag en de plannen van de SFM voor het nieuwe jaar worden gepresenteerd.
  De receptie is dit jaar op de eerste zondag van januari. Een ieder is[..]\
 nhttps://filosofieenmeditatie.nl/events/nieuwjaarsreceptie-2/
URL:https://filosofieenmeditatie.nl/events/nieuwjaarsreceptie-2/
END:VEVENT
END:VCALENDAR