BEGIN:VCALENDAR
VERSION:2.0
PRODID:-//eventon.com NONSGML v1.0//EN
CALSCALE:GREGORIAN
METHOD:PUBLISH
BEGIN:VEVENT
UID:69e9dbfcb4602
DTSTAMP:20260423T084444Z
DTSTART:20191020T090000Z
DTEND:20191020T160000Z
LOCATION:De Cynham\,  Egmond aan den Hoef Herenweg 270
SUMMARY:Studiedag: Het temmen van de os
DESCRIPTION:Heb je altijd je verstand nodig om iets te begrijpen\,  of kent
  je geest ook andere wegen om kennis te verkrijgen? Dat laatste proberen we
  uit op deze studiedag. We lezen een korte meditatieve tekst: ‘Het temmen
  van de os’. Dit gedicht lijkt eerst raadselachtig\,  maar we zullen ontd
 ekken dat[..]\nhttps://filosofieenmeditatie.nl/events/studiedag-het-temmen-
 van-de-os/
URL:https://filosofieenmeditatie.nl/events/studiedag-het-temmen-van-de-os/
END:VEVENT
END:VCALENDAR