BEGIN:VCALENDAR
VERSION:2.0
PRODID:-//eventon.com NONSGML v1.0//EN
CALSCALE:GREGORIAN
METHOD:PUBLISH
BEGIN:VEVENT
UID:69e9f2a238670
DTSTAMP:20260423T102122Z
DTSTART:20191116T090000Z
DTEND:20191116T190000Z
LOCATION:De Cynham\,  Egmond aan den Hoef Herenweg 270
SUMMARY:Koken met Rumi
DESCRIPTION:Bij de soefiemeester Rumi nam de keuken een belangrijke plaats 
 in. Iedereen die tot zijn orde wilde toetreden moest eerst 1001 dagen in de
  keuken werken om het ‘transformerende vuur’ te leren kennen en te behe
 ersen. Ook binnen de SFM neemt de keuken een belangrijke plaats in. Het ber
 eiden van[..]\nhttps://filosofieenmeditatie.nl/events/koken-met-rumi-2/
URL:https://filosofieenmeditatie.nl/events/koken-met-rumi-2/
END:VEVENT
END:VCALENDAR