BEGIN:VCALENDAR
VERSION:2.0
PRODID:-//eventon.com NONSGML v1.0//EN
CALSCALE:GREGORIAN
METHOD:PUBLISH
BEGIN:VEVENT
UID:69ea08c148f38
DTSTAMP:20260423T115545Z
DTSTART:20191117T090000Z
DTEND:20191117T160000Z
LOCATION:De Cynham\,  Egmond aan den Hoef Herenweg 270
SUMMARY:Hoe zijn gewoontes te veranderen?
DESCRIPTION:Mensen zijn gewoonte-wezens. Dat maakt het zo moeilijk onszelf 
 te veranderen. Aan de andere kant… gewoonte-wezens kunnen ook nieuwe\,  b
 etere gewoontes maken en daarmee de oude gewoontes vervangen. In deze – h
 eel praktische &#8211; studiedag bekijken we ’s morgens eerst hoe wij geb
 onden zijn aan gewoontes. Vervolgens kijken wij hoe[..]\nhttps://filosofiee
 nmeditatie.nl/events/hoe-zijn-gewoontes-te-veranderen/
URL:https://filosofieenmeditatie.nl/events/hoe-zijn-gewoontes-te-veranderen/
END:VEVENT
END:VCALENDAR