BEGIN:VCALENDAR
VERSION:2.0
PRODID:-//eventon.com NONSGML v1.0//EN
CALSCALE:GREGORIAN
METHOD:PUBLISH
BEGIN:VEVENT
UID:69ea0458dc2fd
DTSTAMP:20260423T113656Z
DTSTART:20200126T090000Z
DTEND:20200126T160000Z
LOCATION:De Cynham\,  Egmond aan den Hoef Herenweg 270
SUMMARY:Meditatie bij ziekte en sterven
DESCRIPTION:Meditatie is de weg naar binnen. Het geeft je rust\,  meer ener
 gie en helpt je om balans te vinden in de hectiek van het leven. Meditatie 
 helpt ook bij het verwerken of verdragen van pijn\,  verdriet of ziekte. En
  zelfs op het laatst\,  bij het uiteindelijke ‘loslaten’ dat wij sterve
 n[..]\nhttps://filosofieenmeditatie.nl/events/meditatie-bij-ziekte-en-sterv
 en/
URL:https://filosofieenmeditatie.nl/events/meditatie-bij-ziekte-en-sterven/
END:VEVENT
END:VCALENDAR