BEGIN:VCALENDAR
VERSION:2.0
PRODID:-//eventon.com NONSGML v1.0//EN
CALSCALE:GREGORIAN
METHOD:PUBLISH
BEGIN:VEVENT
UID:69e9ed323ace3
DTSTAMP:20260423T095810Z
DTSTART:20200201T090000Z
DTEND:20200201T160000Z
LOCATION:De Cynham\,  Egmond aan den Hoef Herenweg 270
SUMMARY:Inleiding tot de Diamant Sutra
DESCRIPTION:De ‘Diamant Sutra’ behoort tot de oudste Boeddhistische tek
 sten. Toch gaat ze over vragen en twijfels die wij vandaag nog allemaal heb
 ben.  De Diamant Sutra is &#8216;Het Mes Dat Diamant Snijdt&#8217; dat in 
 staat is de  bindingen waar je aan vast zit  door te snijden. Men zegt oo
 k dat de[..]\nhttps://filosofieenmeditatie.nl/events/inleiding-tot-de-diama
 nt-sutra/
URL:https://filosofieenmeditatie.nl/events/inleiding-tot-de-diamant-sutra/
END:VEVENT
END:VCALENDAR