BEGIN:VCALENDAR
VERSION:2.0
PRODID:-//eventon.com NONSGML v1.0//EN
CALSCALE:GREGORIAN
METHOD:PUBLISH
BEGIN:VEVENT
UID:69e4c738d7c85
DTSTAMP:20260419T121448Z
DTSTART:20200802T160000Z
DTEND:20200808T140000Z
LOCATION:De Cynham\,  Egmond aan den Hoef Herenweg 270
SUMMARY:Retraite Zang\,  dans en bezinning
DESCRIPTION:Zang en dans ontspannen niet alleen\,  maar leiden de mens al d
 uizenden jaren lang naar diepere lagen in zichzelf. Dans bijvoorbeeld kan h
 eel goed een meditatieve vorm aannemen. In deze retraite worden de wonderli
 jke\,  vitaliserende eigenschappen van muziek en beweging uitgeprobeerd en 
 verbonden aan filosofie. De retraite wordt begeleid door[..]\nhttps://filos
 ofieenmeditatie.nl/events/retraite-zang-dans-en-bezinning-2/
URL:https://filosofieenmeditatie.nl/events/retraite-zang-dans-en-bezinning-2/
END:VEVENT
END:VCALENDAR