BEGIN:VCALENDAR
VERSION:2.0
PRODID:-//eventon.com NONSGML v1.0//EN
CALSCALE:GREGORIAN
METHOD:PUBLISH
BEGIN:VEVENT
UID:69e4eccc46c6e
DTSTAMP:20260419T145508Z
DTSTART:20200823T160000Z
DTEND:20200829T140000Z
LOCATION:Retraitecentrum Le Domaine St. Antoine\,  Brognon\,  Noord-Frankrijk Rue de la rivière 22  08380 Brognon\,  Frankrijk
SUMMARY:Retraite: Wat heb je nodig om een stralend mens te zijn?
DESCRIPTION:Het is misschien wel je grootste aspiratie: een leven waarin je
  doet wat bij je past\,  op basis van inspiratie en intuïtie. Toch blijkt 
 het vaak moeilijk om de voorwaarden voor dat leven te scheppen\,  als je al
  zou weten wat die voorwaarden zijn.  Dus rijst de vraag: wat heb[..]\nhtt
 ps://filosofieenmeditatie.nl/events/retraite-mahabharata/
URL:https://filosofieenmeditatie.nl/events/retraite-mahabharata/
END:VEVENT
END:VCALENDAR