BEGIN:VCALENDAR
VERSION:2.0
PRODID:-//eventon.com NONSGML v1.0//EN
CALSCALE:GREGORIAN
METHOD:PUBLISH
BEGIN:VEVENT
UID:69e4d906ee8ff
DTSTAMP:20260419T133046Z
DTSTART:20200816T160000Z
DTEND:20200822T140000Z
LOCATION:Retraitecentrum Le Domaine St. Antoine\,  Brognon\,  Noord-Frankrijk Rue de la rivière 22  08380 Brognon\,  Frankrijk
SUMMARY:Retraite de Diamant Sutra
DESCRIPTION:Er zijn maar weinig teksten die je zo diep raken als de Diamant
  Sutra. Je kunt wel zeggen dat het bestuderen van de Diamant Sutra je leven
  diep verandert. De Diamant Sutra is een oude boeddhistische tekst en maakt
  onderdeel uit van de prajnaparamita geschriften en stamt waarschijnlijk ui
 t de[..]\nhttps://filosofieenmeditatie.nl/events/retraite-de-diamant-sutra/
URL:https://filosofieenmeditatie.nl/events/retraite-de-diamant-sutra/
END:VEVENT
END:VCALENDAR