BEGIN:VCALENDAR
VERSION:2.0
PRODID:-//eventon.com NONSGML v1.0//EN
CALSCALE:GREGORIAN
METHOD:PUBLISH
BEGIN:VEVENT
UID:69e5034ee4da6
DTSTAMP:20260419T163110Z
DTSTART:20200809T160000Z
DTEND:20200815T140000Z
LOCATION:Retraitecentrum Le Domaine St. Antoine\,  Brognon\,  Noord-Frankrijk Rue de la rivière 22  08380 Brognon\,  Frankrijk
SUMMARY:Retraite Verdiepingsgroep
DESCRIPTION:Deze retraite is voor deelnemers aan de Leerweg Verdiepingsgroe
 p van de SFM. Nadere informatie volgt.\nhttps://filosofieenmeditatie.nl/eve
 nts/retraite-verdiepingsgroep-2/
URL:https://filosofieenmeditatie.nl/events/retraite-verdiepingsgroep-2/
END:VEVENT
END:VCALENDAR