BEGIN:VCALENDAR
VERSION:2.0
PRODID:-//eventon.com NONSGML v1.0//EN
CALSCALE:GREGORIAN
METHOD:PUBLISH
BEGIN:VEVENT
UID:69e51825a6bd3
DTSTAMP:20260419T180005Z
DTSTART:20200913T160000Z
DTEND:20200919T140000Z
LOCATION:Retraitecentrum Le Domaine St. Antoine\,  Brognon\,  Noord-Frankrijk Rue de la rivière 22  08380 Brognon\,  Frankrijk
SUMMARY:Retraite Ontwikkel je zelf verder\,  BLUE OCEANS
DESCRIPTION:BLUE OCEANS retraite is voor jou bedoeld als je toe bent om éc
 ht te luisteren naar dat wat diep in je leeft en dat te volgen\,  terwijl j
 e in harmonie wilt leven met je omgeving. En als je een nieuwe dimensie wil
 t toevoegen aan je carrière of je persoonlijk leven[..]\nhttps://filosofie
 enmeditatie.nl/events/retraite-ontwikkel-je-zelf-verder-blue-oceans-3/
URL:https://filosofieenmeditatie.nl/events/retraite-ontwikkel-je-zelf-verder-blue-oceans-3/
END:VEVENT
END:VCALENDAR