BEGIN:VCALENDAR
VERSION:2.0
PRODID:-//eventon.com NONSGML v1.0//EN
CALSCALE:GREGORIAN
METHOD:PUBLISH
BEGIN:VEVENT
UID:69e545597813f
DTSTAMP:20260419T211257Z
DTSTART:20200726T160000Z
DTEND:20200801T140000Z
LOCATION:De Cynham\,  Egmond aan den Hoef Herenweg 270
SUMMARY:Mindful restorative retraite
DESCRIPTION:Een retraiteweek vol van inspiratie en yoga in het retraitecent
 rum de Cynham in Egmond aan den Hoef. Deze retraite is helaas vol. Deze ret
 raite wordt georganiseerd door Atyna Janse en Diana van der Gaast (extern) 
 Hoe ziet de week eruit? Je even terugtrekken. Dat is wat we een ‘retraite
 ’ noemen.[..]\nhttps://filosofieenmeditatie.nl/events/6938/
URL:https://filosofieenmeditatie.nl/events/6938/
END:VEVENT
END:VCALENDAR