BEGIN:VCALENDAR
VERSION:2.0
PRODID:-//eventon.com NONSGML v1.0//EN
CALSCALE:GREGORIAN
METHOD:PUBLISH
BEGIN:VEVENT
UID:69e52e53d1860
DTSTAMP:20260419T193443Z
DTSTART:20210912T160000Z
DTEND:20210918T140000Z
LOCATION:Retraitecentrum Le Domaine St. Antoine\,  Brognon\,  Noord-Frankrijk Rue de la rivière 22  08380 Brognon\,  Frankrijk
SUMMARY:Zen retraite o.l.v. Gretha Aerts (extern)
DESCRIPTION:Deze retraite is verplaatst naar 12-18 september i.v.m. de coro
 namaatregelen Een zenretraite wordt in het Japans sesshin genoemd. Het woor
 d sesshin is samengesteld uit twee Chinese ideogrammen – ses (dat komt va
 n setsu) en shin. Sesshin krijgt dan de betekenis van: hart-geest (shin) bi
 jeenbrengen\,  verenigen\,  heel maken (setsu) Iets wat[..]\nhttps://filoso
 fieenmeditatie.nl/events/zen-retraite-o-l-v-gretha-aerts-extern-2/
URL:https://filosofieenmeditatie.nl/events/zen-retraite-o-l-v-gretha-aerts-extern-2/
END:VEVENT
END:VCALENDAR