BEGIN:VCALENDAR
VERSION:2.0
PRODID:-//eventon.com NONSGML v1.0//EN
CALSCALE:GREGORIAN
METHOD:PUBLISH
BEGIN:VEVENT
UID:69e518b997f9f
DTSTAMP:20260419T180233Z
DTSTART:20200612T200000Z
DTEND:20200612T213000Z
LOCATION:De Cynham\,  Egmond aan den Hoef Herenweg 270
SUMMARY:Zenmeditatie: Beginnen met Zen
DESCRIPTION:Vanaf 12 juni gaan we weer beginnen met de zenmeditatie in het 
 retraitecentrum de Cynham. Het doel van zenmeditatie (zazen) is niet om je 
 ‘zen’ te gaan voelen. Waar gaat zen wel over? Zenmeditatie gaat over aa
 nwezig zijn bij wat er is. Aanwezig bij wat je ziet\,  hoort en voelt.[..]\
 nhttps://filosofieenmeditatie.nl/events/zenmeditatie-beginnen-met-zen-2/
URL:https://filosofieenmeditatie.nl/events/zenmeditatie-beginnen-met-zen-2/
END:VEVENT
END:VCALENDAR