BEGIN:VCALENDAR
VERSION:2.0
PRODID:-//eventon.com NONSGML v1.0//EN
CALSCALE:GREGORIAN
METHOD:PUBLISH
BEGIN:VEVENT
UID:69e501ae65698
DTSTAMP:20260419T162414Z
DTSTART:20200314T090000Z
DTEND:20200314T190000Z
LOCATION:De Cynham\,  Egmond aan den Hoef Herenweg 270
SUMMARY:Koken met Rumi: Indonesisch koken voor studenten en andere mensen die geen tijd hebben
DESCRIPTION:De Perzische Dichter Rumi beschouwde de keuken als het centrum 
 van het huis. Hier wordt de gastvrijheid als het ware &#8216;geboren&#8217;
 . Er is altijd een welkom\,  er is eten en drinken en tijd voor een gesprek
 . Er is voedsel voor lichaam\,  geest en ziel en de keuken is hiervoor een[
 ..]\nhttps://filosofieenmeditatie.nl/events/koken-met-rumi-indo/
URL:https://filosofieenmeditatie.nl/events/koken-met-rumi-indo/
END:VEVENT
END:VCALENDAR