BEGIN:VCALENDAR
VERSION:2.0
PRODID:-//eventon.com NONSGML v1.0//EN
CALSCALE:GREGORIAN
METHOD:PUBLISH
BEGIN:VEVENT
UID:69e4ee3b413ab
DTSTAMP:20260419T150115Z
DTSTART:20200415T200000Z
DTEND:20200415T213000Z
LOCATION:
SUMMARY:Meditatie als innerlijk kompas (video seminar)
DESCRIPTION:Video seminar Meditatie als innerlijk kompas Op woensdag 15 ap
 ril om 20.00 uur  wordt er een video seminar via Zoom georganiseerd met 
 als thema Meditatie als innerlijk kompas. Iedereen kan meedoen. Meditatie i
 s één van de krachtigste hulpmiddelen die tot onze beschikking staan en w
 e moeten er goed gebruik van maken. Het gaat[..]\nhttps://filosofieenmedita
 tie.nl/events/meditatie-als-innerlijk-kompas-video-seminar/
URL:https://filosofieenmeditatie.nl/events/meditatie-als-innerlijk-kompas-video-seminar/
END:VEVENT
END:VCALENDAR