BEGIN:VCALENDAR
VERSION:2.0
PRODID:-//eventon.com NONSGML v1.0//EN
CALSCALE:GREGORIAN
METHOD:PUBLISH
BEGIN:VEVENT
UID:69e4d941543bc
DTSTAMP:20260419T133145Z
DTSTART:20200428T200000Z
DTEND:20200428T210000Z
LOCATION:
SUMMARY:Bhagavad Gita studie (video meeting)
DESCRIPTION:Nu de corona epidemie langer aanhoudt zien we dat de onzekerhei
 d\,  somberheid en frustratie toeneemt. We willen hier graag iets tegenover
  stellen. Sinds jaar en dag is er een Indiaas geschrift dat mensen uit Oost
  en West door moeilijke perioden heeft geloosd\,  de Bhagavad Gita. Dit kle
 ine geschrift heeft zeer[..]\nhttps://filosofieenmeditatie.nl/events/bhagav
 ad-gita-studie-video-meeting-2/
URL:https://filosofieenmeditatie.nl/events/bhagavad-gita-studie-video-meeting-2/
END:VEVENT
END:VCALENDAR