BEGIN:VCALENDAR
VERSION:2.0
PRODID:-//eventon.com NONSGML v1.0//EN
CALSCALE:GREGORIAN
METHOD:PUBLISH
BEGIN:VEVENT
UID:69e4d8a221ee4
DTSTAMP:20260419T132906Z
DTSTART:20200512T200000Z
DTEND:20200512T210000Z
LOCATION:
SUMMARY:Bhagavad Gita studie (video meeting)
DESCRIPTION:Nu de corona epidemie langer aanhoudt zien we dat de onzekerhei
 d\,  somberheid en frustratie toeneemt. We willen hier graag iets tegenover
  stellen. Sinds jaar en dag is er een Indiaas geschrift dat mensen uit Oost
  en West door moeilijke perioden heeft geloodst\,  de Bhagavad Gita. Dit kl
 eine geschrift heeft zeer[..]\nhttps://filosofieenmeditatie.nl/events/bhaga
 vad-gita-studie-video-meeting-4/
URL:https://filosofieenmeditatie.nl/events/bhagavad-gita-studie-video-meeting-4/
END:VEVENT
END:VCALENDAR