BEGIN:VCALENDAR
VERSION:2.0
PRODID:-//eventon.com NONSGML v1.0//EN
CALSCALE:GREGORIAN
METHOD:PUBLISH
BEGIN:VEVENT
UID:69e8900be5da1
DTSTAMP:20260422T090827Z
DTSTART:20201110T200000Z
DTEND:20201110T213000Z
LOCATION:
SUMMARY:Bhagavad Gita Videolezing Hoofdstuk 14
DESCRIPTION:Dinsdag 10 novemberom 20.00 uur is er weer een Zoom meeting en 
 gaan we hoofdstuk 14 van de Bhagavad Gita bespreken. Hoofdstuk 14 heeft als
  titel: De Yoga van het onderscheid tussen de Drie Guna’s De leer van de 
 drie guna’s is erg belangrijk in de Indiase filosofie. De vraag[..]\nhttp
 s://filosofieenmeditatie.nl/events/bhagavad-gita-videolezing-hoofdstuk-14/
URL:https://filosofieenmeditatie.nl/events/bhagavad-gita-videolezing-hoofdstuk-14/
END:VEVENT
END:VCALENDAR