BEGIN:VCALENDAR
VERSION:2.0
PRODID:-//eventon.com NONSGML v1.0//EN
CALSCALE:GREGORIAN
METHOD:PUBLISH
BEGIN:VEVENT
UID:69e5d75b0d180
DTSTAMP:20260420T073555Z
DTSTART:20201117T200000Z
DTEND:20201117T213000Z
LOCATION:
SUMMARY:Bhagavad Gita Videolezing Hoofdstuk 15
DESCRIPTION:Dinsdag 17 novemberom 20.00 uur is er weer een Zoom meeting en 
 gaan we hoofdstuk 15 van de Bhagavad Gita bespreken. Hoofdstuk 15 heeft als
  titel: De Yoga van Eenwording met de Opperste Geest (Purushottama) Dit is 
 misschien wel het meest mysterieuze hoofdstuk van de Bhagavad Gita. Het lee
 rt je[..]\nhttps://filosofieenmeditatie.nl/events/bhagavad-gita-videolezing
 -hoofdstuk-15/
URL:https://filosofieenmeditatie.nl/events/bhagavad-gita-videolezing-hoofdstuk-15/
END:VEVENT
END:VCALENDAR