BEGIN:VCALENDAR
VERSION:2.0
PRODID:-//eventon.com NONSGML v1.0//EN
CALSCALE:GREGORIAN
METHOD:PUBLISH
BEGIN:VEVENT
UID:69e5be5b48e3f
DTSTAMP:20260420T054915Z
DTSTART:20201124T200000Z
DTEND:20201124T213000Z
LOCATION:
SUMMARY:Bhagavad Gita Videolezing Hoofdstuk 16
DESCRIPTION:Dinsdag 24 november om 20.00 uur is er weer een Zoom meeting en
  gaan we hoofdstuk 16 van de Bhagavad Gita bespreken. Hoofdstuk 16 heeft al
 s titel: De yoga van het onderscheid tussen de goddelijke en demonische gun
 a’s ‘Goddelijke’ en ‘demonische’ guna’s: wat moeten we hieronde
 r verstaan? Hoe maakt je[..]\nhttps://filosofieenmeditatie.nl/events/bhagav
 ad-gita-videolezing-hoofdstuk-16/
URL:https://filosofieenmeditatie.nl/events/bhagavad-gita-videolezing-hoofdstuk-16/
END:VEVENT
END:VCALENDAR