BEGIN:VCALENDAR
VERSION:2.0
PRODID:-//eventon.com NONSGML v1.0//EN
CALSCALE:GREGORIAN
METHOD:PUBLISH
BEGIN:VEVENT
UID:69e578fc2af6a
DTSTAMP:20260420T005316Z
DTSTART:20201125T093000Z
DTEND:20201125T103000Z
LOCATION:De Cynham\,  Egmond aan den Hoef Herenweg 270
SUMMARY:Online open meditatie woensdagochtend
DESCRIPTION:Open meditatie op woensdagochtend  (9.30-10.30) voorlopig even
  via Zoom Lieve mensen\,  Door de verscherpte maatregelen is het niet mogel
 ijk om deel te nemen aan de meditaties\,  op de woensdagochtenden\,  in de 
 Cynham. Vanaf 11 november is er gelegenheid om via een Zoom meeting (beeldb
 ellen) wel mee te doen met de[..]\nhttps://filosofieenmeditatie.nl/events/o
 nline-open-meditatie-woensdagochtend-3/
URL:https://filosofieenmeditatie.nl/events/online-open-meditatie-woensdagochtend-3/
END:VEVENT
END:VCALENDAR