BEGIN:VCALENDAR
VERSION:2.0
PRODID:-//eventon.com NONSGML v1.0//EN
CALSCALE:GREGORIAN
METHOD:PUBLISH
BEGIN:VEVENT
UID:69e5616c93881
DTSTAMP:20260419T231244Z
DTSTART:20201201T200000Z
DTEND:20201201T213000Z
LOCATION:
SUMMARY:Bhagavad Gita Videolezing Hoofdstuk 17
DESCRIPTION:Dinsdag 1 december om 20.00 uur is er weer een Zoom meeting en 
 gaan we hoofdstuk 17 van de Bhagavad Gita bespreken. Hoofdstuk 17 heeft als
  titel: De yoga van het drievoudige geloof en vertrouwen Dit hoofdstuk besc
 hrijft de climax van de Bhagavad Gita. De kennis van de eerdere hoofdstukke
 n[..]\nhttps://filosofieenmeditatie.nl/events/bhagavad-gita-videolezing-hoo
 fdstuk-17/
URL:https://filosofieenmeditatie.nl/events/bhagavad-gita-videolezing-hoofdstuk-17/
END:VEVENT
END:VCALENDAR