BEGIN:VCALENDAR
VERSION:2.0
PRODID:-//eventon.com NONSGML v1.0//EN
CALSCALE:GREGORIAN
METHOD:PUBLISH
BEGIN:VEVENT
UID:69e5489c0d633
DTSTAMP:20260419T212652Z
DTSTART:20201208T200000Z
DTEND:20201208T213000Z
LOCATION:
SUMMARY:Bhagavad Gita Videolezing Hoofdstuk 18 deel 1
DESCRIPTION:Dinsdag 8 december om 20.00 uur is er weer een Zoom meeting en 
 gaan we hoofdstuk 18 van de Bhagavad Gita (deel 1) bespreken. Hoofdstuk 18
  heeft als titel: De yoga van bevrijding en afstand doen. Dit hoofdstuk het
  langste hoofdstuk van de Bhagavad Gita (78 verzen). Daarom kunne we het[..
 ]\nhttps://filosofieenmeditatie.nl/events/bhagavad-gita-videolezing-hoofdst
 uk-18-deel-1/
URL:https://filosofieenmeditatie.nl/events/bhagavad-gita-videolezing-hoofdstuk-18-deel-1/
END:VEVENT
END:VCALENDAR