BEGIN:VCALENDAR
VERSION:2.0
PRODID:-//eventon.com NONSGML v1.0//EN
CALSCALE:GREGORIAN
METHOD:PUBLISH
BEGIN:VEVENT
UID:69e532ffa8d9a
DTSTAMP:20260419T195439Z
DTSTART:20201215T200000Z
DTEND:20201215T213000Z
LOCATION:
SUMMARY:Bhagavad Gita Videolezing Hoofdstuk 18 deel 2
DESCRIPTION:Dinsdag 15 december om 20.00 uur is er weer een Zoom meeting en
  bespreken we hoofdstuk 18 van de Bhagavad Gita (deel 2). We kijken naar d
 e verzen 50-78 waar het thema &#8216;bevrijding&#8217; centraal staat. Hoof
 dstuk 18 heeft als titel: De yoga van bevrijding en afstand doen. Dit hoofd
 stuk het langste[..]\nhttps://filosofieenmeditatie.nl/events/bhagavad-gita-
 videolezing-hoofdstuk-18-deel-2/
URL:https://filosofieenmeditatie.nl/events/bhagavad-gita-videolezing-hoofdstuk-18-deel-2/
END:VEVENT
END:VCALENDAR