BEGIN:VCALENDAR
VERSION:2.0
PRODID:-//eventon.com NONSGML v1.0//EN
CALSCALE:GREGORIAN
METHOD:PUBLISH
BEGIN:VEVENT
UID:69e5068522a80
DTSTAMP:20260419T164453Z
DTSTART:20210619T160000Z
DTEND:20210627T110000Z
LOCATION:Retraitecentrum Le Domaine St. Antoine\,  Brognon\,  Noord-Frankrijk Rue de la rivière 22  08380 Brognon\,  Frankrijk
SUMMARY:Vrijwilligersproject: onderhoud aan het retraitecentrum in Brognon
DESCRIPTION:Let op: deze retraite is verplaatst i.v.m. de corona maatregele
 n. Gisteren zijn de nieuwe corona-maatregelen bekend geworden. Er geldt een
  negatief reisadvies t/m 15 mei 2021. Wij hebben als bestuur alles op een r
 ijtje gezet en moeten besluiten om alle retraites in mei af te zeggen. Erg 
 jammer\,  maar de[..]\nhttps://filosofieenmeditatie.nl/events/vrijwilligers
 project-onderhoud-aan-het-retraitecentrum-in-brognon/
URL:https://filosofieenmeditatie.nl/events/vrijwilligersproject-onderhoud-aan-het-retraitecentrum-in-brognon/
END:VEVENT
END:VCALENDAR