BEGIN:VCALENDAR
VERSION:2.0
PRODID:-//eventon.com NONSGML v1.0//EN
CALSCALE:GREGORIAN
METHOD:PUBLISH
BEGIN:VEVENT
UID:69e4dd3b9374a
DTSTAMP:20260419T134843Z
DTSTART:20210905T160000Z
DTEND:20210911T140000Z
LOCATION:Retraitecentrum Le Domaine St. Antoine\,  Brognon\,  Noord-Frankrijk Rue de la rivière 22  08380 Brognon\,  Frankrijk
SUMMARY:Retraite Ontwikkel je zelf verder\,  THE NEXT STEP
DESCRIPTION:THE NEXT STEP retraite is voor jou bedoeld als je toe bent aan 
 een volgende stap. Een volgende stap in je werk\,  in je privéleven of een
  volgende stap om je &#8216;grootste ideaal&#8217; in je leven te realisere
 n. Je wil dit doen\,  maar wel in harmonie met je omgeving.  Zeven[..]\nht
 tps://filosofieenmeditatie.nl/events/retraite-ontwikkel-je-zelf-verder-the-
 next-step-2/
URL:https://filosofieenmeditatie.nl/events/retraite-ontwikkel-je-zelf-verder-the-next-step-2/
END:VEVENT
END:VCALENDAR