BEGIN:VCALENDAR
VERSION:2.0
PRODID:-//eventon.com NONSGML v1.0//EN
CALSCALE:GREGORIAN
METHOD:PUBLISH
BEGIN:VEVENT
UID:69e4d9070202a
DTSTAMP:20260419T133047Z
DTSTART:20210119T200000Z
DTEND:20210119T213000Z
LOCATION:
SUMMARY:Videostudies 'De verborgen kennis' van de Bhagavad Gita
DESCRIPTION:De Bhagavad Gita heeft ons heel veel te bieden. Er worden 18 ve
 rschillende ‘yoga’s’ beschreven. Daarnaast zijn er veel verzen die he
 t waard zijn om te overwegen en plekje een te geven in je leven. Maar er is
  ook kennis in te vinden die ‘verborgen’ is. Deze kennis kan je[..]\nht
 tps://filosofieenmeditatie.nl/events/videostudies-de-verborgen-kennis-van-d
 e-bhagavad-gita/
URL:https://filosofieenmeditatie.nl/events/videostudies-de-verborgen-kennis-van-de-bhagavad-gita/
END:VEVENT
END:VCALENDAR