BEGIN:VCALENDAR
VERSION:2.0
PRODID:-//eventon.com NONSGML v1.0//EN
CALSCALE:GREGORIAN
METHOD:PUBLISH
BEGIN:VEVENT
UID:69e4dcf32c07b
DTSTAMP:20260419T134731Z
DTSTART:20210829T160000Z
DTEND:20210904T140000Z
LOCATION:Retraitecentrum Le Domaine St. Antoine\,  Brognon\,  Noord-Frankrijk Rue de la rivière 22  08380 Brognon\,  Frankrijk
SUMMARY:Inspiratieweek Hanuman: de spirituele held
DESCRIPTION:In het epos Ramayana heeft de goddelijke prins Rama de immense 
 taak om de aarde te zuiveren van de demonische krachten. Gelukkig vindt hij
  in de legendarische aap Hanuman zijn ideale helper: sterk\,  moedig\,  cre
 atief\,  trouw en altijd bereid om te doen wat nodig is. Als je spiritueel 
 wil groeien[..]\nhttps://filosofieenmeditatie.nl/events/inspiratieweek-hanu
 man-de-spirituele-held/
URL:https://filosofieenmeditatie.nl/events/inspiratieweek-hanuman-de-spirituele-held/
END:VEVENT
END:VCALENDAR