BEGIN:VCALENDAR
VERSION:2.0
PRODID:-//eventon.com NONSGML v1.0//EN
CALSCALE:GREGORIAN
METHOD:PUBLISH
BEGIN:VEVENT
UID:69e50a505d5da
DTSTAMP:20260419T170104Z
DTSTART:20210530T170000Z
DTEND:20210710T120000Z
LOCATION:
SUMMARY:Individuele retraite 'Op jezelf\,  maar niet alleen'
DESCRIPTION:Tijdens een individuele retraite kan je je terugtrekken uit de 
 hectiek van het dagelijks leven om even bij te tanken en tot jezelf te kome
 n. Dat kan in een rustige\,  bosrijke omgeving\,  in het retraitecentrum in
  Brognon (Noord-Frankrijk). Je bent welkom  in de periode van 30 mei tot 1
 0 juli[..]\nhttps://filosofieenmeditatie.nl/events/individuele-retraite-op-
 jezelf-maar-niet-alleen/
URL:https://filosofieenmeditatie.nl/events/individuele-retraite-op-jezelf-maar-niet-alleen/
END:VEVENT
END:VCALENDAR