BEGIN:VCALENDAR
VERSION:2.0
PRODID:-//eventon.com NONSGML v1.0//EN
CALSCALE:GREGORIAN
METHOD:PUBLISH
BEGIN:VEVENT
UID:69e51cc155b47
DTSTAMP:20260419T181945Z
DTSTART:20210815T160000Z
DTEND:20210821T140000Z
LOCATION:Retraitecentrum Le Domaine St. Antoine\,  Brognon\,  Noord-Frankrijk Rue de la rivière 22  08380 Brognon\,  Frankrijk
SUMMARY:Yoga en meditatie: de lotus van het hart. (retraite vol. Je kan op de wachtlijst)
DESCRIPTION:Yoga en meditatie: de lotus van het hart. Deze retraite is vol.
  Als je wil\,  kan je op de wachtlijst gezet worden. Stuur een mailtje naar
 : info@filosofieenmeditatie.nl Zes dagen lang dompelen we ons onder in het 
 nu\,  de ervaringsstoom van dit moment\,  het samenzijn en de verbinding me
 t de plek[..]\nhttps://filosofieenmeditatie.nl/events/yoga-en-meditatie-de-
 lotus-van-het-hart/
URL:https://filosofieenmeditatie.nl/events/yoga-en-meditatie-de-lotus-van-het-hart/
END:VEVENT
END:VCALENDAR