BEGIN:VCALENDAR
VERSION:2.0
PRODID:-//eventon.com NONSGML v1.0//EN
CALSCALE:GREGORIAN
METHOD:PUBLISH
BEGIN:VEVENT
UID:69e9f0f150734
DTSTAMP:20260423T101409Z
DTSTART:20210822T160000Z
DTEND:20210828T140000Z
LOCATION:Retraitecentrum Le Domaine St. Antoine\,  Brognon\,  Noord-Frankrijk Rue de la rivière 22  08380 Brognon\,  Frankrijk
SUMMARY:Filosofie en Meditatie retraite: de drie guna's
DESCRIPTION:In deze 6-daagse retraite onderzoeken we de grote kracht die on
 s leven vorm geeft. De kracht stroomt niet alleen door ons heen\,  maar str
 oomt door de gehele schepping en verbindt alles met elkaar. Deze kracht ver
 deelt zich in drie delen die we zelf goed kunnen waarnemen. Zij worden in d
 e[..]\nhttps://filosofieenmeditatie.nl/events/filosofie-en-meditatie-retrai
 te-de-drie-gunas/
URL:https://filosofieenmeditatie.nl/events/filosofie-en-meditatie-retraite-de-drie-gunas/
END:VEVENT
END:VCALENDAR