BEGIN:VCALENDAR
VERSION:2.0
PRODID:-//eventon.com NONSGML v1.0//EN
CALSCALE:GREGORIAN
METHOD:PUBLISH
BEGIN:VEVENT
UID:69e4c3f1a58c3
DTSTAMP:20260419T120049Z
DTSTART:20210418T100000Z
DTEND:20210418T120000Z
LOCATION:
SUMMARY:Zoom meeting Jeugdwerk 2.0 deel 3: Programma voor Tieners
DESCRIPTION:Jeugdwerk is erg belangrijk in de Stichting Filosofie en Medita
 tie. Je wil je/de kinderen graag iets moois meegeven in hun leven. De uitsp
 raak: &#8216;wat vertel je je kinderen opdat zij vol verlangen uitzien naar
  de dag van morgen?&#8217; heeft ons al vanaf het begin van onze stichting 
 (1995) geïnspireerd en[..]\nhttps://filosofieenmeditatie.nl/events/zoom-me
 eting-jeugdwerk-2-0-deel-3-programma-voor-tieners/
URL:https://filosofieenmeditatie.nl/events/zoom-meeting-jeugdwerk-2-0-deel-3-programma-voor-tieners/
END:VEVENT
END:VCALENDAR